BEGIN:VCALENDAR
VERSION:2.0
PRODID:-//Mission Empower - ECPv6.15.15//NONSGML v1.0//EN
CALSCALE:GREGORIAN
METHOD:PUBLISH
X-ORIGINAL-URL:https://missionempower.org
X-WR-CALDESC:Events for Mission Empower
REFRESH-INTERVAL;VALUE=DURATION:PT1H
X-Robots-Tag:noindex
X-PUBLISHED-TTL:PT1H
BEGIN:VTIMEZONE
TZID:America/New_York
BEGIN:DAYLIGHT
TZOFFSETFROM:-0500
TZOFFSETTO:-0400
TZNAME:EDT
DTSTART:20240310T070000
END:DAYLIGHT
BEGIN:STANDARD
TZOFFSETFROM:-0400
TZOFFSETTO:-0500
TZNAME:EST
DTSTART:20241103T060000
END:STANDARD
BEGIN:DAYLIGHT
TZOFFSETFROM:-0500
TZOFFSETTO:-0400
TZNAME:EDT
DTSTART:20250309T070000
END:DAYLIGHT
BEGIN:STANDARD
TZOFFSETFROM:-0400
TZOFFSETTO:-0500
TZNAME:EST
DTSTART:20251102T060000
END:STANDARD
BEGIN:DAYLIGHT
TZOFFSETFROM:-0500
TZOFFSETTO:-0400
TZNAME:EDT
DTSTART:20260308T070000
END:DAYLIGHT
BEGIN:STANDARD
TZOFFSETFROM:-0400
TZOFFSETTO:-0500
TZNAME:EST
DTSTART:20261101T060000
END:STANDARD
END:VTIMEZONE
BEGIN:VEVENT
DTSTART;VALUE=DATE:20250813
DTEND;VALUE=DATE:20250814
DTSTAMP:20260422T085539
CREATED:20250711T123705Z
LAST-MODIFIED:20250711T124805Z
UID:5582-1755043200-1755129599@missionempower.org
SUMMARY:Erie Gives | August 13\, 2025
DESCRIPTION:Every day\, Mission Empower stands beside families navigating the complex world of special education. Through our advocacy services\, we help parents become confident leaders in their child’s educational journey—ensuring no family walks this path alone. \nWhen parents are empowered\, children with disabilities gain the tools\, support\, and opportunities they need to thrive. Your support during Erie Gives makes this possible. It fuels a movement where voices are lifted\, futures are shaped\, and every child—regardless of ability—has a champion. \nOn Tuesday\, August 13\, 2025 you can power our mission by participating in Erie Gives\, a one-day online giving event hosted by the Erie Community Foundation. The giving window runs from midnight to midnight\, and every donation of $25 or more through www.eriegives.org helps Mission Empower qualify for prorated matching funds—stretching your gift even further. Your support helps us continue providing free advocacy\, youth leadership opportunities\, employment readiness programs\, tutoring services\, and parent trainings for families and children with disabilities right here in our community. \nWhen you give to Mission Empower on Erie Gives day\, you are supporting programs that create a lifetime of empowerment for children with disabilities. Thank you in advance for considering a donation on this unique day of giving to Mission Empower. If you have any questions\, please feel free to call our office at (814) 825-0788.
URL:https://missionempower.org/event/erie-gives-august-13-2025/
CATEGORIES:All Events
END:VEVENT
END:VCALENDAR