BEGIN:VCALENDAR
VERSION:2.0
PRODID:-//Mission Empower - ECPv6.15.15//NONSGML v1.0//EN
CALSCALE:GREGORIAN
METHOD:PUBLISH
X-ORIGINAL-URL:https://missionempower.org
X-WR-CALDESC:Events for Mission Empower
REFRESH-INTERVAL;VALUE=DURATION:PT1H
X-Robots-Tag:noindex
X-PUBLISHED-TTL:PT1H
BEGIN:VTIMEZONE
TZID:America/New_York
BEGIN:DAYLIGHT
TZOFFSETFROM:-0500
TZOFFSETTO:-0400
TZNAME:EDT
DTSTART:20240310T070000
END:DAYLIGHT
BEGIN:STANDARD
TZOFFSETFROM:-0400
TZOFFSETTO:-0500
TZNAME:EST
DTSTART:20241103T060000
END:STANDARD
BEGIN:DAYLIGHT
TZOFFSETFROM:-0500
TZOFFSETTO:-0400
TZNAME:EDT
DTSTART:20250309T070000
END:DAYLIGHT
BEGIN:STANDARD
TZOFFSETFROM:-0400
TZOFFSETTO:-0500
TZNAME:EST
DTSTART:20251102T060000
END:STANDARD
BEGIN:DAYLIGHT
TZOFFSETFROM:-0500
TZOFFSETTO:-0400
TZNAME:EDT
DTSTART:20260308T070000
END:DAYLIGHT
BEGIN:STANDARD
TZOFFSETFROM:-0400
TZOFFSETTO:-0500
TZNAME:EST
DTSTART:20261101T060000
END:STANDARD
END:VTIMEZONE
BEGIN:VEVENT
DTSTART;TZID=America/New_York:20250721T090000
DTEND;TZID=America/New_York:20250724T160000
DTSTAMP:20260422T102122
CREATED:20250618T185539Z
LAST-MODIFIED:20250618T185716Z
UID:5565-1753088400-1753372800@missionempower.org
SUMMARY:Youth Summit 2024 | July 21-24\, 2025
DESCRIPTION:Youth Summit\nJuly 21-24\, 2024\n9:00 a.m. – 4:00 p.m. \nRotary 9\nPresque Isle State Park 301 Peninsula Dr.\nErie\, PA 16505 \nAges 13-Graduation! \n\nTOPICS:\n\nSelf-Advocacy\nBuilding Healthy Relationships\nSocial Media\nSelf-Care\nArt Therapy\nNutrition\n\n\nIf interested\, contact Cassie Hoyer at 814 825-0788 or choyer@missionempower.org to register and complete an intake.
URL:https://missionempower.org/event/youth-summit-2024-july-21-24-2025/
LOCATION:Presque Isle State Park\, 301 Peninsula Dr.\, Erie\, PA\, 16505-2042\, United States
CATEGORIES:All Events,Youth Event
END:VEVENT
END:VCALENDAR