BEGIN:VCALENDAR
VERSION:2.0
PRODID:-//Mission Empower - ECPv6.15.15//NONSGML v1.0//EN
CALSCALE:GREGORIAN
METHOD:PUBLISH
X-ORIGINAL-URL:https://missionempower.org
X-WR-CALDESC:Events for Mission Empower
REFRESH-INTERVAL;VALUE=DURATION:PT1H
X-Robots-Tag:noindex
X-PUBLISHED-TTL:PT1H
BEGIN:VTIMEZONE
TZID:America/New_York
BEGIN:DAYLIGHT
TZOFFSETFROM:-0500
TZOFFSETTO:-0400
TZNAME:EDT
DTSTART:20240310T070000
END:DAYLIGHT
BEGIN:STANDARD
TZOFFSETFROM:-0400
TZOFFSETTO:-0500
TZNAME:EST
DTSTART:20241103T060000
END:STANDARD
BEGIN:DAYLIGHT
TZOFFSETFROM:-0500
TZOFFSETTO:-0400
TZNAME:EDT
DTSTART:20250309T070000
END:DAYLIGHT
BEGIN:STANDARD
TZOFFSETFROM:-0400
TZOFFSETTO:-0500
TZNAME:EST
DTSTART:20251102T060000
END:STANDARD
BEGIN:DAYLIGHT
TZOFFSETFROM:-0500
TZOFFSETTO:-0400
TZNAME:EDT
DTSTART:20260308T070000
END:DAYLIGHT
BEGIN:STANDARD
TZOFFSETFROM:-0400
TZOFFSETTO:-0500
TZNAME:EST
DTSTART:20261101T060000
END:STANDARD
END:VTIMEZONE
BEGIN:VEVENT
DTSTART;TZID=America/New_York:20250202T150000
DTEND;TZID=America/New_York:20250202T180000
DTSTAMP:20260422T181507
CREATED:20250125T171139Z
LAST-MODIFIED:20250125T173208Z
UID:5454-1738508400-1738519200@missionempower.org
SUMMARY:Trivia Fundraising Event | February 2\, 2025
DESCRIPTION:Join us for a fun community event showcasing your knowledge and competitive spirit! Cash prizes for 1st\, 2nd and 3rd place\, raffle baskets\, 50/50\, and $5 karaoke! \nPRICES:\n$25 Individual\n$20 Senior\n$20 Ages 16-18\nFREE Ages 15 & Under
URL:https://missionempower.org/event/trivia-fundraising-event-february-2-2025/
LOCATION:JPT Foundation Event Center\, 2319 W 38th St\, Erie\, PA\, 16506\, United States
CATEGORIES:All Events,Youth Event
ORGANIZER;CN="Darlene Brown":MAILTO:dbrown@missionempower.org
END:VEVENT
END:VCALENDAR