BEGIN:VCALENDAR
VERSION:2.0
PRODID:-//Mission Empower - ECPv6.15.15//NONSGML v1.0//EN
CALSCALE:GREGORIAN
METHOD:PUBLISH
X-ORIGINAL-URL:https://missionempower.org
X-WR-CALDESC:Events for Mission Empower
REFRESH-INTERVAL;VALUE=DURATION:PT1H
X-Robots-Tag:noindex
X-PUBLISHED-TTL:PT1H
BEGIN:VTIMEZONE
TZID:America/New_York
BEGIN:DAYLIGHT
TZOFFSETFROM:-0500
TZOFFSETTO:-0400
TZNAME:EDT
DTSTART:20200308T070000
END:DAYLIGHT
BEGIN:STANDARD
TZOFFSETFROM:-0400
TZOFFSETTO:-0500
TZNAME:EST
DTSTART:20201101T060000
END:STANDARD
BEGIN:DAYLIGHT
TZOFFSETFROM:-0500
TZOFFSETTO:-0400
TZNAME:EDT
DTSTART:20210314T070000
END:DAYLIGHT
BEGIN:STANDARD
TZOFFSETFROM:-0400
TZOFFSETTO:-0500
TZNAME:EST
DTSTART:20211107T060000
END:STANDARD
BEGIN:DAYLIGHT
TZOFFSETFROM:-0500
TZOFFSETTO:-0400
TZNAME:EDT
DTSTART:20220313T070000
END:DAYLIGHT
BEGIN:STANDARD
TZOFFSETFROM:-0400
TZOFFSETTO:-0500
TZNAME:EST
DTSTART:20221106T060000
END:STANDARD
END:VTIMEZONE
BEGIN:VEVENT
DTSTART;VALUE=DATE:20210601
DTEND;VALUE=DATE:20210901
DTSTAMP:20260425T090209
CREATED:20210602T215315Z
LAST-MODIFIED:20210602T215315Z
UID:4660-1622505600-1630454399@missionempower.org
SUMMARY:City of Erie Summer 2021 Youth Programs and Recreation
DESCRIPTION:
URL:/wp-content/uploads/2021/06/The-City-of-Erie-2021-Summer-Recreation-Guide.pdf
CATEGORIES:All Events
END:VEVENT
BEGIN:VEVENT
DTSTART;TZID=America/New_York:20210630T150000
DTEND;TZID=America/New_York:20210630T160000
DTSTAMP:20260425T090209
CREATED:20210528T225625Z
LAST-MODIFIED:20210528T225625Z
UID:4649-1625065200-1625068800@missionempower.org
SUMMARY:MISSION EMPOWER - Big Borthers and Big Sisters Program with Daniel Stone - June 30
DESCRIPTION:Registration:\nhttp://events.constantcontact.com/register/event?llr=bqpx7qabb&oeidk=a07ei0sx68ue84ab7a0 \nSurvey:\nhttps://www.surveymonkey.com/r/7D9VNBK
URL:https://missionempower.org/event/mission-empower-big-borthers-and-big-sisters-program-with-daniel-stone-june-30/
CATEGORIES:All Events,Webinars
END:VEVENT
END:VCALENDAR