BEGIN:VCALENDAR
VERSION:2.0
PRODID:-//Mission Empower - ECPv6.15.15//NONSGML v1.0//EN
CALSCALE:GREGORIAN
METHOD:PUBLISH
X-WR-CALNAME:Mission Empower
X-ORIGINAL-URL:https://missionempower.org
X-WR-CALDESC:Events for Mission Empower
REFRESH-INTERVAL;VALUE=DURATION:PT1H
X-Robots-Tag:noindex
X-PUBLISHED-TTL:PT1H
BEGIN:VTIMEZONE
TZID:America/New_York
BEGIN:DAYLIGHT
TZOFFSETFROM:-0500
TZOFFSETTO:-0400
TZNAME:EDT
DTSTART:20200308T070000
END:DAYLIGHT
BEGIN:STANDARD
TZOFFSETFROM:-0400
TZOFFSETTO:-0500
TZNAME:EST
DTSTART:20201101T060000
END:STANDARD
BEGIN:DAYLIGHT
TZOFFSETFROM:-0500
TZOFFSETTO:-0400
TZNAME:EDT
DTSTART:20210314T070000
END:DAYLIGHT
BEGIN:STANDARD
TZOFFSETFROM:-0400
TZOFFSETTO:-0500
TZNAME:EST
DTSTART:20211107T060000
END:STANDARD
BEGIN:DAYLIGHT
TZOFFSETFROM:-0500
TZOFFSETTO:-0400
TZNAME:EDT
DTSTART:20220313T070000
END:DAYLIGHT
BEGIN:STANDARD
TZOFFSETFROM:-0400
TZOFFSETTO:-0500
TZNAME:EST
DTSTART:20221106T060000
END:STANDARD
END:VTIMEZONE
BEGIN:VEVENT
DTSTART;VALUE=DATE:20210511
DTEND;VALUE=DATE:20210625
DTSTAMP:20260425T111115
CREATED:20210428T152423Z
LAST-MODIFIED:20210428T152506Z
UID:4590-1620691200-1624579199@missionempower.org
SUMMARY:PA Care Partnership Webinar Series - May 11-June 24
DESCRIPTION:May is Mental Health Awareness Month 2021 \n\nMay 11\, 2021\, 2 to 4 p.m. ET: Jarred Vermillion\, Heroes: Engaging Youth and Families Through Pop Culture\,  register now: http://bit.ly/2NfOZwK\nMay 13\, 2021\, 2 to 4 p.m. ET: Dan Dubovsky\, Improving Outcomes by Recognizing Fetal Alcohol Spectrum Disorders (FASD)\,  register now:  http://bit.ly/39cWCNa\nMay 25\, 2021\, 2:30 to 4 p.m. ET: #DearAdultWorld\, Panelists: Calvin Ryerse\, Allison Higgins\, Diana Campo\, and Patrick Miller\, register now: http://bit.ly/3peVOwI\nMay 27\, 2021\, 2 to 4 p.m. ET: Dan Dubovsky\, Improving Outcomes by Modifying Approaches for Those with Fetal Alcohol Spectrum Disorders (FASD)\,  register now: http://bit.ly/39cWCNa\n\nJune 2021 \n\nJune 10\, 2021\, 2 to 4 p.m. ET: Daniel Hughes\, Ph.D.\,  Building Trust with Children who have been hurt in Relationships. – register now: http://bit.ly/3sUdyzO\nJune 24\, 2021\, 2:30 to 4 p.m. ET: Riana Elyse Anderson\, Ph.D.\, LCP\, Healing Racial Trauma: Racial Socialization as a Clinical Strategy for Black Youth – Register now: https://bit.ly/2NK9geK
URL:https://missionempower.org/event/pa-care-partnership-webinar-series-may-11-june-24/
CATEGORIES:All Events,Webinars
END:VEVENT
BEGIN:VEVENT
DTSTART;VALUE=DATE:20210601
DTEND;VALUE=DATE:20210901
DTSTAMP:20260425T111115
CREATED:20210602T215315Z
LAST-MODIFIED:20210602T215315Z
UID:4660-1622505600-1630454399@missionempower.org
SUMMARY:City of Erie Summer 2021 Youth Programs and Recreation
DESCRIPTION:
URL:/wp-content/uploads/2021/06/The-City-of-Erie-2021-Summer-Recreation-Guide.pdf
CATEGORIES:All Events
END:VEVENT
BEGIN:VEVENT
DTSTART;TZID=America/New_York:20210616T150000
DTEND;TZID=America/New_York:20210616T160000
DTSTAMP:20260425T111115
CREATED:20210522T173308Z
LAST-MODIFIED:20210522T173308Z
UID:4638-1623855600-1623859200@missionempower.org
SUMMARY:MISSION EMPOWER - Transition Goals\, Activities\, and Services in the IEP W4 with PEAL Center - June 16
DESCRIPTION:Wendi is going to discuss transition goals\, activities\, and services in the IEP. This part of the I.E.P can be overwhelming for some families. Mission Empower would like to help ease your concerns by offering this W4. The mission of the PEAL Center is to educate and empower families to ensure that children\, youth\, and young adults with disabilities and special health care needs to lead rich\, active lives as full members of their schools and communities. \nRegistration\nhttp://events.constantcontact.com/register/event?llr=bqpx7qabb&oeidk=a07ei0skue633cb8b3b \nSurvey\nhttps://www.surveymonkey.com/r/77XF7F7
URL:https://missionempower.org/event/mission-empower-transition-goals-activities-and-services-in-the-iep-w4-with-peal-center-june-16/
CATEGORIES:All Events,Webinars
END:VEVENT
END:VCALENDAR