BEGIN:VCALENDAR
VERSION:2.0
PRODID:-//Mission Empower - ECPv6.15.15//NONSGML v1.0//EN
CALSCALE:GREGORIAN
METHOD:PUBLISH
X-ORIGINAL-URL:https://missionempower.org
X-WR-CALDESC:Events for Mission Empower
REFRESH-INTERVAL;VALUE=DURATION:PT1H
X-Robots-Tag:noindex
X-PUBLISHED-TTL:PT1H
BEGIN:VTIMEZONE
TZID:America/New_York
BEGIN:DAYLIGHT
TZOFFSETFROM:-0500
TZOFFSETTO:-0400
TZNAME:EDT
DTSTART:20200308T070000
END:DAYLIGHT
BEGIN:STANDARD
TZOFFSETFROM:-0400
TZOFFSETTO:-0500
TZNAME:EST
DTSTART:20201101T060000
END:STANDARD
BEGIN:DAYLIGHT
TZOFFSETFROM:-0500
TZOFFSETTO:-0400
TZNAME:EDT
DTSTART:20210314T070000
END:DAYLIGHT
BEGIN:STANDARD
TZOFFSETFROM:-0400
TZOFFSETTO:-0500
TZNAME:EST
DTSTART:20211107T060000
END:STANDARD
BEGIN:DAYLIGHT
TZOFFSETFROM:-0500
TZOFFSETTO:-0400
TZNAME:EDT
DTSTART:20220313T070000
END:DAYLIGHT
BEGIN:STANDARD
TZOFFSETFROM:-0400
TZOFFSETTO:-0500
TZNAME:EST
DTSTART:20221106T060000
END:STANDARD
END:VTIMEZONE
BEGIN:VEVENT
DTSTART;VALUE=DATE:20210511
DTEND;VALUE=DATE:20210625
DTSTAMP:20260425T130852
CREATED:20210428T152423Z
LAST-MODIFIED:20210428T152506Z
UID:4590-1620691200-1624579199@missionempower.org
SUMMARY:PA Care Partnership Webinar Series - May 11-June 24
DESCRIPTION:May is Mental Health Awareness Month 2021 \n\nMay 11\, 2021\, 2 to 4 p.m. ET: Jarred Vermillion\, Heroes: Engaging Youth and Families Through Pop Culture\,  register now: http://bit.ly/2NfOZwK\nMay 13\, 2021\, 2 to 4 p.m. ET: Dan Dubovsky\, Improving Outcomes by Recognizing Fetal Alcohol Spectrum Disorders (FASD)\,  register now:  http://bit.ly/39cWCNa\nMay 25\, 2021\, 2:30 to 4 p.m. ET: #DearAdultWorld\, Panelists: Calvin Ryerse\, Allison Higgins\, Diana Campo\, and Patrick Miller\, register now: http://bit.ly/3peVOwI\nMay 27\, 2021\, 2 to 4 p.m. ET: Dan Dubovsky\, Improving Outcomes by Modifying Approaches for Those with Fetal Alcohol Spectrum Disorders (FASD)\,  register now: http://bit.ly/39cWCNa\n\nJune 2021 \n\nJune 10\, 2021\, 2 to 4 p.m. ET: Daniel Hughes\, Ph.D.\,  Building Trust with Children who have been hurt in Relationships. – register now: http://bit.ly/3sUdyzO\nJune 24\, 2021\, 2:30 to 4 p.m. ET: Riana Elyse Anderson\, Ph.D.\, LCP\, Healing Racial Trauma: Racial Socialization as a Clinical Strategy for Black Youth – Register now: https://bit.ly/2NK9geK
URL:https://missionempower.org/event/pa-care-partnership-webinar-series-may-11-june-24/
CATEGORIES:All Events,Webinars
END:VEVENT
BEGIN:VEVENT
DTSTART;TZID=America/New_York:20210518T113000
DTEND;TZID=America/New_York:20210518T160000
DTSTAMP:20260425T130852
CREATED:20210428T150912Z
LAST-MODIFIED:20210428T150912Z
UID:4579-1621337400-1621353600@missionempower.org
SUMMARY:CADRE Webinar - Exploring Implicit Bias and Microaggressions in Special Education - May 18
DESCRIPTION:On\, May 18\, 2021\, from 11:30 AM – 1:00 PM PT (2:30 PM – 4:00 PM ET)\, CADRE will host a free webinar\, Exploring Implicit Bias and Microaggressions in Special Education.\, presented by Jason Harper\, Founder of Harper Conflict Resolution\, LLC. \nREGISTERING:   \nPlease register for the free webinar. Details about how to join the webinar will be sent to you upon registration. (If you’re unable to join\, a recording will be available on the website.) \nABOUT THE WEBINAR: \nUnconscious bias is the result\, in part\, of the human brain’s need to categorize and store vast amounts of information. While everyone has unconscious biases\, it can create problems when they surface in our evaluations and decisions. In Special Education\, our implicit biases can alter our decisions regarding who we assess\, who we believe\, and how we evaluate cases. Further\, it is important to understand how microaggressions can affect our parties\, clients\, and colleagues\, leaving them with negative encounters over our seemingly innocuous statements. This presentation will deepen knowledge and skills in the area of implicit bias\, microaggressions and how to mitigate those factors when evaluating cases or working with families.   \nABOUT THE PRESENTER: \nJason Harper is the founder of Harper Conflict Resolution\, LLC. He specializes in Education and Employment mediation utilizing a collaborative approach. In addition\, Jason is an alternative dispute resolution (ADR) consultant\, conflict management coach\, adjunct professor\, and trainer. Most notably\, Jason is the ADR Consultant for the Los Angeles County Office of Education\, providing mediation and conflict resolution services to over 50 school districts and charter schools. \n\nHe is a Lecturer in Law at the University of Southern California\, Gould School of Law teaching on Cross-Cultural Dispute Resolution and an Adjunct Professor of Mediation at Pacific Coast University\, School of Law. Jason has also provided mediation and conflict resolution training for organizations such as the Western Justice Center and the International Visitors Council\, training adults from over twenty different countries. Jason has been recognized by the California State Senate and the United States Congress for his mediation trainings. \nThis webinar will be recorded. \nView past CADRE webinar recordings \nPlease note: If interested\, you may email cadre@directionservice.org and we will update you on upcoming CADRE webinars and provide you with an opportunity to give us feedback.
URL:https://missionempower.org/event/cadre-webinar-exploring-implicit-bias-and-microaggressions-in-special-education-may-18/
CATEGORIES:All Events,Webinars
END:VEVENT
BEGIN:VEVENT
DTSTART;TZID=America/New_York:20210518T193000
DTEND;TZID=America/New_York:20210518T203000
DTSTAMP:20260425T130852
CREATED:20210428T152639Z
LAST-MODIFIED:20210428T152838Z
UID:4593-1621366200-1621369800@missionempower.org
SUMMARY:PA Parent Family Alliance Webinar - Feeling Safe When the Sky is Falling: Helping Pre-School and Elementary School Children through a Global Pandemic - May 18
DESCRIPTION:This presentation looks at the impact of the pandemic on young children and uses what we know about resilience in order to help caregivers support their children’s healthy development despite the condition of the global pandemic. \nAudience: parents of young children\, teachers working with children to elementary age\, others who work with families. \nPresented by: Kristen Hennessy\, Ph.D\, is a licensed psychologist and trauma therapist specializing in the treatment of children with histories of complex trauma. She has worked in Central PA for over the past decade\, and speaks locally and internationally on topics regarding the treatment of children with histories of complex trauma. \nPresented in partnership with BHARP\, System of Care Project. This event is funded\, in part\, under grant # 1H79SM08194-02 from the Substance Abuse and Mental Health Services Administration (SAMHSA)\, US. \nRegister Now!
URL:https://missionempower.org/event/pa-parent-family-alliance-webinar-feeling-safe-when-the-sky-is-falling-helping-pre-school-and-elementary-school-children-through-a-global-pandemic-may-18/
CATEGORIES:All Events,Webinars
END:VEVENT
END:VCALENDAR