BEGIN:VCALENDAR
VERSION:2.0
PRODID:-//Mission Empower - ECPv6.15.15//NONSGML v1.0//EN
CALSCALE:GREGORIAN
METHOD:PUBLISH
X-ORIGINAL-URL:https://missionempower.org
X-WR-CALDESC:Events for Mission Empower
REFRESH-INTERVAL;VALUE=DURATION:PT1H
X-Robots-Tag:noindex
X-PUBLISHED-TTL:PT1H
BEGIN:VTIMEZONE
TZID:America/New_York
BEGIN:DAYLIGHT
TZOFFSETFROM:-0500
TZOFFSETTO:-0400
TZNAME:EDT
DTSTART:20200308T070000
END:DAYLIGHT
BEGIN:STANDARD
TZOFFSETFROM:-0400
TZOFFSETTO:-0500
TZNAME:EST
DTSTART:20201101T060000
END:STANDARD
BEGIN:DAYLIGHT
TZOFFSETFROM:-0500
TZOFFSETTO:-0400
TZNAME:EDT
DTSTART:20210314T070000
END:DAYLIGHT
BEGIN:STANDARD
TZOFFSETFROM:-0400
TZOFFSETTO:-0500
TZNAME:EST
DTSTART:20211107T060000
END:STANDARD
BEGIN:DAYLIGHT
TZOFFSETFROM:-0500
TZOFFSETTO:-0400
TZNAME:EDT
DTSTART:20220313T070000
END:DAYLIGHT
BEGIN:STANDARD
TZOFFSETFROM:-0400
TZOFFSETTO:-0500
TZNAME:EST
DTSTART:20221106T060000
END:STANDARD
END:VTIMEZONE
BEGIN:VEVENT
DTSTART;TZID=America/New_York:20210505T150000
DTEND;TZID=America/New_York:20210505T160000
DTSTAMP:20260425T130821
CREATED:20210428T150555Z
LAST-MODIFIED:20210430T151618Z
UID:4575-1620226800-1620230400@missionempower.org
SUMMARY:MISSION EMPOWER - Karen Omniewski from Department of Health W4: Dental Services - May 5
DESCRIPTION:Wendi\, Mission Empowers Parent Coordinator and Richard from Nami will be discussion upcoming programming through NAMI. Wendi will dig deeper about their services.Then we will have a Q&A session for all of our live session viewers. You don’t want to miss this! \nThe National Alliance on Mental Illness of Erie County provides education and support of mental illness for individuals and families in an effort to improve the public’s awareness and understanding of mental health. \n\nRegister Now!\n\n\nSurvey:\nhttps://www.surveymonkey.com/r/96JL3ZG
URL:https://missionempower.org/event/karen-omniewski-from-department-of-health-w4-dental-services-may-5/
CATEGORIES:All Events,Webinars
END:VEVENT
END:VCALENDAR