BEGIN:VCALENDAR
VERSION:2.0
PRODID:-//Mission Empower - ECPv6.15.15//NONSGML v1.0//EN
CALSCALE:GREGORIAN
METHOD:PUBLISH
X-WR-CALNAME:Mission Empower
X-ORIGINAL-URL:https://missionempower.org
X-WR-CALDESC:Events for Mission Empower
REFRESH-INTERVAL;VALUE=DURATION:PT1H
X-Robots-Tag:noindex
X-PUBLISHED-TTL:PT1H
BEGIN:VTIMEZONE
TZID:America/New_York
BEGIN:DAYLIGHT
TZOFFSETFROM:-0500
TZOFFSETTO:-0400
TZNAME:EDT
DTSTART:20200308T070000
END:DAYLIGHT
BEGIN:STANDARD
TZOFFSETFROM:-0400
TZOFFSETTO:-0500
TZNAME:EST
DTSTART:20201101T060000
END:STANDARD
BEGIN:DAYLIGHT
TZOFFSETFROM:-0500
TZOFFSETTO:-0400
TZNAME:EDT
DTSTART:20210314T070000
END:DAYLIGHT
BEGIN:STANDARD
TZOFFSETFROM:-0400
TZOFFSETTO:-0500
TZNAME:EST
DTSTART:20211107T060000
END:STANDARD
BEGIN:DAYLIGHT
TZOFFSETFROM:-0500
TZOFFSETTO:-0400
TZNAME:EDT
DTSTART:20220313T070000
END:DAYLIGHT
BEGIN:STANDARD
TZOFFSETFROM:-0400
TZOFFSETTO:-0500
TZNAME:EST
DTSTART:20221106T060000
END:STANDARD
END:VTIMEZONE
BEGIN:VEVENT
DTSTART;VALUE=DATE:20210427
DTEND;VALUE=DATE:20210429
DTSTAMP:20260425T130602
CREATED:20210324T222111Z
LAST-MODIFIED:20210329T153507Z
UID:4492-1619481600-1619654399@missionempower.org
SUMMARY:PA Early Intervention and Family Support Program Conference - April 27-28
DESCRIPTION:Registration is Now Open! \nThe Bureau of Early Intervention Services and Family Supports is pleased to invite you to the upcoming virtual conference\, Pennsylvania 2021 Early Intervention and Family Support Program Conference: Learning and Sharing to Support Children and Families on April 27-28\, 2021. \nThis statewide conference will provide an opportunity for families and professionals to gain knowledge and skills in effective practices in Early Intervention\, home visiting\, and family support programs. The over 30 sessions will focus on topics including equity\, family engagement\, trauma informed care\, social emotional development and service delivery. \nInvited participants include: Early Intervention Infant Toddler/Preschool Leaders\, Teachers and Service Providers; Family Support Administrators\, Supervisors\, Home Visitors\, and Nurse Home Visitors; and Families of Children Receiving Early Intervention or Family Support Services. \nThis conference is intended for professionals and families involved in Pennsylvania Early Intervention and Family Support programs only. \nThe schedule for the conference and information about credits is available on the conference website. Participants can receive up to 7 credit hours for Act 48\, Infant/Toddler\, PQAS\, Social Work or Nursing. \nRegistration Information: \n1)      There is no registration fee for this event however\, pre-registration is required. \n2)      Please register by April 9\, 2021 through the following direct link  https://www.pattan.net/Events/Conferences/Course-2871/Events/Session-35471. \n3)      In order to be eligible for conference attendance and/or continuing education credit\, participants must complete an evaluation at the end of the conference and include a verification code for each individual session they are applying for credit and/or attendance. The conference evaluation survey is entirely online and will be available on the conference platform at the start of the conference. You will not receive credit\, or be marked in attendance\, for any sessions for which you have not registered. You must complete the conference evaluation within the Chime App by May 7th to receive credit. \nIf you have any questions\, please reference the Frequently Asked Questions on the conference website or contact the conference help desk at eita@pattan.net. \nWe look forward to your participation! \nDeb Daulton\, Director\nEarly Intervention Technical Assistance
URL:https://missionempower.org/event/pa-early-intervention-and-family-support-program-conference-april-27-28/
CATEGORIES:All Events,Webinars
END:VEVENT
BEGIN:VEVENT
DTSTART;TZID=America/New_York:20210428T150000
DTEND;TZID=America/New_York:20210428T160000
DTSTAMP:20260425T130602
CREATED:20210428T150335Z
LAST-MODIFIED:20210428T152116Z
UID:4569-1619622000-1619625600@missionempower.org
SUMMARY:Lessons from the Field: Family & Community Engagement and Returning to In-Person Instruction - Apr 28
DESCRIPTION:Attention: Education Agencies\, Education Providers and Family & Community Engagement  Staff  \nThe U.S. Department of Education is hosting a webinar series to support educational settings in  safely sustaining or returning to in-person instruction. The series features lessons learned and  best practices from teachers\, faculty\, staff\, schools\, districts\, institutions of higher education\,  early childhood education providers\, other places of educational instruction\, describing  approaches to operating during the COVID-19 pandemic.   \nOn behalf of the U.S. Department of Education (ED)\, Office of Elementary and Secondary  Education\, Office of Safe and Supportive Schools\, the National Center on Safe Supportive  Learning Environments (NCSSLE) invites you to join the next webinar\, Family & Community Engagement and Returning to In-Person Instruction.  \nDate: Wednesday\, April 28\, 2021   \nTime: 3:00-4:00 pm EST  \nPlease join us for this informative webinar featuring practitioners with notable success in  effective strategies for engaging families and communities while re-opening schools following  the pandemic. After a brief overview of the latest information from the U.S. Department of  Education related to family engagement\, practitioners will share promising practices and  effective strategies for meaningful family and community engagement.   \nSpeakers/Panelists   \n\nChristian Rhodes: Chief of Staff\, Office of Elementary and Secondary Education\, U.S.  Department of Education\nJessica Cardichon: Deputy Assistant Secretary for K-12\, Office of Planning\, Evaluation\,  and Policy Development\, U.S. Department of Education \nRepresentatives from Local Education Agencies\n\n\n\n\nRegister Here!\n\n\n\nPlease contact NCSSLE if you have any questions. We look forward to sharing this information  with you and hearing from you about the important work you are doing in your schools\,  communities\, and states to meet the needs of your students and staff as they return to in person instruction.  
URL:https://missionempower.org/event/lessons-from-the-field-family-community-engagement-and-returning-to-in-person-instruction-apr-28/
CATEGORIES:All Events,Webinars
END:VEVENT
BEGIN:VEVENT
DTSTART;TZID=America/New_York:20210428T150000
DTEND;TZID=America/New_York:20210428T160000
DTSTAMP:20260425T130602
CREATED:20210428T150459Z
LAST-MODIFIED:20210428T153626Z
UID:4572-1619622000-1619625600@missionempower.org
SUMMARY:MISSION EMPOWER - NWPA CareerLink Youth Programs W4 - Apr 28
DESCRIPTION:  \n\n\nDid you know that Pennsylvania CareerLink offers youth programs? Are you a teen of working age?  This W4 will discuss those programs in detail. Don’t want to miss this one. \nWendi from Mission Empower will continue speaking to PA Career Link about their youth programs. Join to see how your child 16+ is able to benefit from their programs. These discussions are always interesting. \n\nRegister Now!
URL:https://missionempower.org/event/nwpa-careerlink-youth-programs-w4-apr-28/
CATEGORIES:All Events,Webinars
END:VEVENT
END:VCALENDAR