BEGIN:VCALENDAR
VERSION:2.0
PRODID:-//Mission Empower - ECPv6.15.15//NONSGML v1.0//EN
CALSCALE:GREGORIAN
METHOD:PUBLISH
X-ORIGINAL-URL:https://missionempower.org
X-WR-CALDESC:Events for Mission Empower
REFRESH-INTERVAL;VALUE=DURATION:PT1H
X-Robots-Tag:noindex
X-PUBLISHED-TTL:PT1H
BEGIN:VTIMEZONE
TZID:America/New_York
BEGIN:DAYLIGHT
TZOFFSETFROM:-0500
TZOFFSETTO:-0400
TZNAME:EDT
DTSTART:20200308T070000
END:DAYLIGHT
BEGIN:STANDARD
TZOFFSETFROM:-0400
TZOFFSETTO:-0500
TZNAME:EST
DTSTART:20201101T060000
END:STANDARD
BEGIN:DAYLIGHT
TZOFFSETFROM:-0500
TZOFFSETTO:-0400
TZNAME:EDT
DTSTART:20210314T070000
END:DAYLIGHT
BEGIN:STANDARD
TZOFFSETFROM:-0400
TZOFFSETTO:-0500
TZNAME:EST
DTSTART:20211107T060000
END:STANDARD
BEGIN:DAYLIGHT
TZOFFSETFROM:-0500
TZOFFSETTO:-0400
TZNAME:EDT
DTSTART:20220313T070000
END:DAYLIGHT
BEGIN:STANDARD
TZOFFSETFROM:-0400
TZOFFSETTO:-0500
TZNAME:EST
DTSTART:20221106T060000
END:STANDARD
END:VTIMEZONE
BEGIN:VEVENT
DTSTART;TZID=America/New_York:20210407T150000
DTEND;TZID=America/New_York:20210421T160000
DTSTAMP:20260425T143307
CREATED:20210406T024812Z
LAST-MODIFIED:20210428T153622Z
UID:4551-1617807600-1619020800@missionempower.org
SUMMARY:MISSION EMPOWER - Wonderful Wednesdays with Wendi
DESCRIPTION:Each week Mission Empower has a live podcast at 3:00 pm on Wednesday. Please subscribe to our newsletter to get an invitation to the next event!\nW4\nApril 7\, 2021 \nPeal Center – Kelly King – Navigating Behavioral Health Systems \nRegistation\nhttp://events.constantcontact.com/register/event?llr=bqpx7qabb&oeidk=a07ehs6arage74aa0a5 \nSurvey\nhttps://www.surveymonkey.com/r/MY9RKK2 \n  \nW4\nApril 14\, 2021 \nNAMI of Erie County Talking About Upcoming Programming \nRegistration\nhttp://events.constantcontact.com/register/event?llr=bqpx7qabb&oeidk=a07ehs6iqfo34ea086b \nSurvey\nhttps://www.surveymonkey.com/r/MTDD3Y8 \n  \nW4\nApril 21\, 2021 \nLisa Karney From NWPA Career Link \nRegistration\nhttp://events.constantcontact.com/register/event?llr=bqpx7qabb&oeidk=a07ehs6s9nz19134f0f \nZoom\nhttps://www.surveymonkey.com/r/XTR9LDH \nIf you have any questions\, a topic or guest speaker you would like to see\, please email Wendi at wwojtecki@missionempower.org
URL:https://missionempower.org/event/wonderful-wednesdays-with-wendi-2/
CATEGORIES:All Events,Webinars
END:VEVENT
BEGIN:VEVENT
DTSTART;VALUE=DATE:20210412
DTEND;VALUE=DATE:20210414
DTSTAMP:20260425T143307
CREATED:20210406T015915Z
LAST-MODIFIED:20210406T015915Z
UID:4529-1618185600-1618358399@missionempower.org
SUMMARY:PEAL Center Disability and Mental Health Summit 2021: Youth Sessions - Apr 12-13
DESCRIPTION:DISABILITY AND MENTAL HEALTH SUMMIT 2021: YOUTH SESSIONS\nApril 12 @ 9:00 am – April 13 @ 11:30 am UTC+0\n\n\n\n\nThese sessions are specifically for transition age young people\, ages 14-26. Families/teachers are welcome to assist or register for them.\n\n\n\n\n\nAbout this Event\n\n\nIf you need any assistance registering for this event\, please email kbrinkley@pealcenter.org \nThere are 4 sessions for youth. Please select which sessions you are registering for when prompted. \nMonday\, April 12th\, 9:00-10:00 am: Using Your Voice for Change \n\nDo you know of a problem that needs fixed? Is there something that you want to see changed for the better for everyone? Learn how powerful YOUR voice can be!\n\nMonday\, April 12th\, 10:30-11:30 am: Building Healthy Relationships \n\nWhat does a “healthy” relationship look like? How do I set boundaries for myself in a relationship? Learn how to value your own self-worth and identify what it means to be in healthy friendships and relationships.\n\nTuesday\, April 13th\, 9:00-10:00 am: Out of the Box Transition Planning \n\nLearn about some of the unique ways transition teams have been preparing students for life after high school during the pandemic. Whether you’re at home or in school\, there are countless ways to stay engaged and focus on the future!\n\nTuesday\, April 13th\, 10:30-11:30 am: Friendships: Building a Good Life for Teens & Young Adults \n\nMaking friends can be hard work. Let’s talk about what true friendship looks like\, how to nurture friendships\, and why they are important in everyone’s lives!\n\nFamily Members or Individuals: If you are registering an individual student to attend\, please choose this option. \nTeachers: If you are registering for a class\, please choose this option. Please make sure you indicate how many youth will be attending\, and how they will be logging in\, either individually or all together. We understand that some students may be absent\, but give us your best guess. \nWe look forward to seeing the youth who will be participating this year! \n\nRegister on Eventbrite
URL:https://missionempower.org/event/peal-center-disability-and-mental-health-summit-2021-youth-sessions-apr-12-13/
CATEGORIES:All Events
END:VEVENT
END:VCALENDAR