BEGIN:VCALENDAR
VERSION:2.0
PRODID:-//Mission Empower - ECPv6.15.15//NONSGML v1.0//EN
CALSCALE:GREGORIAN
METHOD:PUBLISH
X-ORIGINAL-URL:https://missionempower.org
X-WR-CALDESC:Events for Mission Empower
REFRESH-INTERVAL;VALUE=DURATION:PT1H
X-Robots-Tag:noindex
X-PUBLISHED-TTL:PT1H
BEGIN:VTIMEZONE
TZID:America/New_York
BEGIN:DAYLIGHT
TZOFFSETFROM:-0500
TZOFFSETTO:-0400
TZNAME:EDT
DTSTART:20190310T070000
END:DAYLIGHT
BEGIN:STANDARD
TZOFFSETFROM:-0400
TZOFFSETTO:-0500
TZNAME:EST
DTSTART:20191103T060000
END:STANDARD
BEGIN:DAYLIGHT
TZOFFSETFROM:-0500
TZOFFSETTO:-0400
TZNAME:EDT
DTSTART:20200308T070000
END:DAYLIGHT
BEGIN:STANDARD
TZOFFSETFROM:-0400
TZOFFSETTO:-0500
TZNAME:EST
DTSTART:20201101T060000
END:STANDARD
BEGIN:DAYLIGHT
TZOFFSETFROM:-0500
TZOFFSETTO:-0400
TZNAME:EDT
DTSTART:20210314T070000
END:DAYLIGHT
BEGIN:STANDARD
TZOFFSETFROM:-0400
TZOFFSETTO:-0500
TZNAME:EST
DTSTART:20211107T060000
END:STANDARD
END:VTIMEZONE
BEGIN:VEVENT
DTSTART;TZID=America/New_York:20201022T180000
DTEND;TZID=America/New_York:20201022T190000
DTSTAMP:20260426T001851
CREATED:20200923T024330Z
LAST-MODIFIED:20201029T193407Z
UID:4304-1603389600-1603393200@missionempower.org
SUMMARY:Knowing Your Rights in the Midst of a Pandemic - October 22nd
DESCRIPTION:Knowing your rights w/ Curtis Jones\nPlease join my meeting from your computer\, tablet or smartphone. \n  \nJOIN MEETING \n  \nYou can also dial in using your phone.\nUnited States: +1 (224) 501-3412\nAccess Code: 113-933-021\nNew to GoToMeeting? Get the app now and be ready when your first meeting starts: https://global.gotomeeting.com/install/113933021 \n\nHere is the information:\nKnowing Your Rights in the Midst of a Pandemic\n\nA Webinar Series Discussing How to Advocate for Your Child During Virtual Schooling \n\nJoin Curtis Jones on three Thursdays in October starting at 6 PM for guidance on your child receiving the accommodations they need to be successful during this new school experience! Register on our website at missionempower.org\n\nOctober 8th — Advocating in the New Virtual World\nOctober 15th — Rights and Responsibilities\nOctober 22nd — Assistive Technology Tips
URL:https://missionempower.org/event/knowing-your-rights-in-the-midst-of-a-pandemic-october-22nd/
CATEGORIES:All Events,Webinars
ORGANIZER;CN="Jill Hrinda-Patten":MAILTO:advocate@missionempower.org
END:VEVENT
END:VCALENDAR