BEGIN:VCALENDAR
VERSION:2.0
PRODID:-//Mission Empower - ECPv6.15.15//NONSGML v1.0//EN
CALSCALE:GREGORIAN
METHOD:PUBLISH
X-ORIGINAL-URL:https://missionempower.org
X-WR-CALDESC:Events for Mission Empower
REFRESH-INTERVAL;VALUE=DURATION:PT1H
X-Robots-Tag:noindex
X-PUBLISHED-TTL:PT1H
BEGIN:VTIMEZONE
TZID:America/New_York
BEGIN:DAYLIGHT
TZOFFSETFROM:-0500
TZOFFSETTO:-0400
TZNAME:EDT
DTSTART:20240310T070000
END:DAYLIGHT
BEGIN:STANDARD
TZOFFSETFROM:-0400
TZOFFSETTO:-0500
TZNAME:EST
DTSTART:20241103T060000
END:STANDARD
BEGIN:DAYLIGHT
TZOFFSETFROM:-0500
TZOFFSETTO:-0400
TZNAME:EDT
DTSTART:20250309T070000
END:DAYLIGHT
BEGIN:STANDARD
TZOFFSETFROM:-0400
TZOFFSETTO:-0500
TZNAME:EST
DTSTART:20251102T060000
END:STANDARD
BEGIN:DAYLIGHT
TZOFFSETFROM:-0500
TZOFFSETTO:-0400
TZNAME:EDT
DTSTART:20260308T070000
END:DAYLIGHT
BEGIN:STANDARD
TZOFFSETFROM:-0400
TZOFFSETTO:-0500
TZNAME:EST
DTSTART:20261101T060000
END:STANDARD
END:VTIMEZONE
BEGIN:VEVENT
DTSTART;TZID=America/New_York:20250423T190000
DTEND;TZID=America/New_York:20250423T200000
DTSTAMP:20260422T132457
CREATED:20250405T171154Z
LAST-MODIFIED:20250405T171154Z
UID:5522-1745434800-1745438400@missionempower.org
SUMMARY:Understanding Children with ADHD | April 23\, 2025
DESCRIPTION:Where: \nIn Person or via Zoom\n1611 Peach Street Suite 120\nErie\, PA 16501 \nTime: \n7:00-8:00pm \n\nZoom Link: \nhttps://us02web.zoom.us/u/kbbNQ2gJ9a \nContact Conny James with any questions: conjames@missionempower.org or 814-825-0788 Ext 101.
URL:https://missionempower.org/event/understanding-children-with-adhd-april-23-2025/
LOCATION:Mission Empower\, 1611 Peach Street\, Erie\, 16501\, United States
CATEGORIES:All Events,Youth Event
END:VEVENT
BEGIN:VEVENT
DTSTART;TZID=America/New_York:20250426T093000
DTEND;TZID=America/New_York:20250426T150000
DTSTAMP:20260422T132457
CREATED:20250405T164558Z
LAST-MODIFIED:20250405T164558Z
UID:5518-1745659800-1745679600@missionempower.org
SUMMARY:Autism Walk | April 26\, 2025
DESCRIPTION:Where: \nErie Speedway\n10700 Delmas Dr.\nNorth East Pa. 16428 \nTime: \nRegistration: 9:30 am to 10:45 am\nPre-Walk Announcements: 10:45 am\nWalk Begins: 11:00 am promptly \n\nLooking for volunteers to help Mission Empower staff at our booth! \nIf interested\, please contact Cassandra James at 814-825-0788 ext 105 or choyer@missionempower.org to sign up!
URL:https://missionempower.org/event/autism-walk-april-26-2025/
LOCATION:Erie Speedway\, 10700 Delmas Dr.\, North East\, PA\, 16428\, United States
CATEGORIES:All Events,Youth Event
END:VEVENT
END:VCALENDAR