BEGIN:VCALENDAR
VERSION:2.0
PRODID:-//Mission Empower - ECPv6.15.15//NONSGML v1.0//EN
CALSCALE:GREGORIAN
METHOD:PUBLISH
X-ORIGINAL-URL:https://missionempower.org
X-WR-CALDESC:Events for Mission Empower
REFRESH-INTERVAL;VALUE=DURATION:PT1H
X-Robots-Tag:noindex
X-PUBLISHED-TTL:PT1H
BEGIN:VTIMEZONE
TZID:America/New_York
BEGIN:DAYLIGHT
TZOFFSETFROM:-0500
TZOFFSETTO:-0400
TZNAME:EDT
DTSTART:20230312T070000
END:DAYLIGHT
BEGIN:STANDARD
TZOFFSETFROM:-0400
TZOFFSETTO:-0500
TZNAME:EST
DTSTART:20231105T060000
END:STANDARD
BEGIN:DAYLIGHT
TZOFFSETFROM:-0500
TZOFFSETTO:-0400
TZNAME:EDT
DTSTART:20240310T070000
END:DAYLIGHT
BEGIN:STANDARD
TZOFFSETFROM:-0400
TZOFFSETTO:-0500
TZNAME:EST
DTSTART:20241103T060000
END:STANDARD
BEGIN:DAYLIGHT
TZOFFSETFROM:-0500
TZOFFSETTO:-0400
TZNAME:EDT
DTSTART:20250309T070000
END:DAYLIGHT
BEGIN:STANDARD
TZOFFSETFROM:-0400
TZOFFSETTO:-0500
TZNAME:EST
DTSTART:20251102T060000
END:STANDARD
END:VTIMEZONE
BEGIN:VEVENT
DTSTART;TZID=America/New_York:20240709T163000
DTEND;TZID=America/New_York:20240712T160000
DTSTAMP:20260423T032104
CREATED:20240510T194402Z
LAST-MODIFIED:20240510T195306Z
UID:5364-1720542600-1720800000@missionempower.org
SUMMARY:Youth Summit 2024 | July 9-12\, 2024
DESCRIPTION:Youth Summit\nJuly 10-12\, 2024\n9:00 a.m. – 4:00 p.m. \nRotary 9\nPresque Isle State Park 301 Peninsula Dr.\nErie\, PA 16505 \n\nTraining\, Plenty of Activities\, Food and a GREAT time!\nCOMPLETELY FREE\n$75 gift Cards for Successfully Participating ALL 3 days\n\n\nMANDATORY Introductory\nTuesday\, July 9\, 2024\n4:30 p.m. – 6:30 p.m. \nMission Empower\n1611 Peach Street Suite 120\,\nErie PA 16501 \n\nIf interested\, contact Cassie Hoyer at 814 825-0788 or choyer@missionempower.org to register and complete an intake.
URL:https://missionempower.org/event/youth-summit-2024-july-9-12-2024/
LOCATION:Presque Isle State Park\, 301 Peninsula Dr.\, Erie\, PA\, 16505-2042\, United States
CATEGORIES:All Events,Youth Event
END:VEVENT
BEGIN:VEVENT
DTSTART;TZID=America/New_York:20240722T163000
DTEND;TZID=America/New_York:20240723T160000
DTSTAMP:20260423T032104
CREATED:20240510T194233Z
LAST-MODIFIED:20240510T195308Z
UID:5362-1721665800-1721750400@missionempower.org
SUMMARY:Jr. Youth Summit 2024 | July 22-23\, 2024
DESCRIPTION:Jr. Youth Summit\nTuesday\, July 23\, 2024\n9:00 a.m. – 4:00 p.m. \nRotary 9\nPresque Isle State Park 301 Peninsula Dr.\nErie\, PA 16505 \n\nTraining\, Plenty of Activities\, Food and a GREAT time!\nCOMPLETELY FREE\n$10 Gift Cards for youth that participate ALL DAY\n\n\nMANDATORY Introductory\nMonday\, July 22\, 2024\n4:30 p.m. – 6:30 p.m. \nMission Empower\n1611 Peach Street Suite 120\,\nErie PA 16501 \n\nIf interested\, contact Cassie Hoyer at 814 825-0788 or choyer@missionempower.org to register and complete an intake.
URL:https://missionempower.org/event/jr-youth-summit-2024-july-22-23-2024/
LOCATION:Presque Isle State Park\, 301 Peninsula Dr.\, Erie\, PA\, 16505-2042\, United States
CATEGORIES:All Events,Youth Event
END:VEVENT
END:VCALENDAR