BEGIN:VCALENDAR
VERSION:2.0
PRODID:-//Mission Empower - ECPv6.15.15//NONSGML v1.0//EN
CALSCALE:GREGORIAN
METHOD:PUBLISH
X-ORIGINAL-URL:https://missionempower.org
X-WR-CALDESC:Events for Mission Empower
REFRESH-INTERVAL;VALUE=DURATION:PT1H
X-Robots-Tag:noindex
X-PUBLISHED-TTL:PT1H
BEGIN:VTIMEZONE
TZID:America/New_York
BEGIN:DAYLIGHT
TZOFFSETFROM:-0500
TZOFFSETTO:-0400
TZNAME:EDT
DTSTART:20220313T070000
END:DAYLIGHT
BEGIN:STANDARD
TZOFFSETFROM:-0400
TZOFFSETTO:-0500
TZNAME:EST
DTSTART:20221106T060000
END:STANDARD
BEGIN:DAYLIGHT
TZOFFSETFROM:-0500
TZOFFSETTO:-0400
TZNAME:EDT
DTSTART:20230312T070000
END:DAYLIGHT
BEGIN:STANDARD
TZOFFSETFROM:-0400
TZOFFSETTO:-0500
TZNAME:EST
DTSTART:20231105T060000
END:STANDARD
BEGIN:DAYLIGHT
TZOFFSETFROM:-0500
TZOFFSETTO:-0400
TZNAME:EDT
DTSTART:20240310T070000
END:DAYLIGHT
BEGIN:STANDARD
TZOFFSETFROM:-0400
TZOFFSETTO:-0500
TZNAME:EST
DTSTART:20241103T060000
END:STANDARD
END:VTIMEZONE
BEGIN:VEVENT
DTSTART;VALUE=DATE:20230910
DTEND;VALUE=DATE:20230911
DTSTAMP:20260423T185235
CREATED:20230302T195003Z
LAST-MODIFIED:20230823T235630Z
UID:5167-1694304000-1694390399@missionempower.org
SUMMARY:Youth Event | The 3 A's of Your IEP | September 10\, 2023
DESCRIPTION:
URL:https://missionempower.org/event/youth-event-the-3-as-of-your-iep-september-10-2023/
LOCATION:Mission Empower\, 1611 Peach Street\, Erie\, 16501\, United States
CATEGORIES:All Events,Youth Event
END:VEVENT
BEGIN:VEVENT
DTSTART;VALUE=DATE:20230924
DTEND;VALUE=DATE:20230925
DTSTAMP:20260423T185235
CREATED:20230302T195028Z
LAST-MODIFIED:20230823T235646Z
UID:5169-1695513600-1695599999@missionempower.org
SUMMARY:Youth Event | Volleyball at Presque Isle | September 24\, 2023
DESCRIPTION:
URL:https://missionempower.org/event/youth-event-volleyball-at-presque-isle-september-24-2023/
LOCATION:Mission Empower\, 1611 Peach Street\, Erie\, 16501\, United States
CATEGORIES:All Events,Youth Event
END:VEVENT
BEGIN:VEVENT
DTSTART;VALUE=DATE:20230929
DTEND;VALUE=DATE:20231105
DTSTAMP:20260423T185235
CREATED:20230804T183208Z
LAST-MODIFIED:20230804T183316Z
UID:5246-1695945600-1699142399@missionempower.org
SUMMARY:Family Leadership Institute: Erie & Northwestern PA | September - November\, 2023
DESCRIPTION:Learn more here! \n— \nYou’re invited to apply to participate in a Family Leadership Institute (FLI)\, offered at no cost to families by the PEAL Center and our partners. \n\nParticipation is by application only\nMake sure to complete the application and submit by September 1st\, 2023\n\nIn-person sessions will be held in the Erie area on September 29-30\, October 20-21\, and November 3-4 of 2023. Participants MUST COMMIT to attending all sessions\, in addition to completing “Learning On Your Own” (LOYO) assignments in between.
URL:https://missionempower.org/event/family-leadership-institute-erie-northwestern-pa-september-november-2023/
CATEGORIES:All Events
END:VEVENT
END:VCALENDAR