BEGIN:VCALENDAR
VERSION:2.0
PRODID:-//Mission Empower - ECPv6.15.15//NONSGML v1.0//EN
CALSCALE:GREGORIAN
METHOD:PUBLISH
X-WR-CALNAME:Mission Empower
X-ORIGINAL-URL:https://missionempower.org
X-WR-CALDESC:Events for Mission Empower
REFRESH-INTERVAL;VALUE=DURATION:PT1H
X-Robots-Tag:noindex
X-PUBLISHED-TTL:PT1H
BEGIN:VTIMEZONE
TZID:America/New_York
BEGIN:DAYLIGHT
TZOFFSETFROM:-0500
TZOFFSETTO:-0400
TZNAME:EDT
DTSTART:20210314T070000
END:DAYLIGHT
BEGIN:STANDARD
TZOFFSETFROM:-0400
TZOFFSETTO:-0500
TZNAME:EST
DTSTART:20211107T060000
END:STANDARD
BEGIN:DAYLIGHT
TZOFFSETFROM:-0500
TZOFFSETTO:-0400
TZNAME:EDT
DTSTART:20220313T070000
END:DAYLIGHT
BEGIN:STANDARD
TZOFFSETFROM:-0400
TZOFFSETTO:-0500
TZNAME:EST
DTSTART:20221106T060000
END:STANDARD
BEGIN:DAYLIGHT
TZOFFSETFROM:-0500
TZOFFSETTO:-0400
TZNAME:EDT
DTSTART:20230312T070000
END:DAYLIGHT
BEGIN:STANDARD
TZOFFSETFROM:-0400
TZOFFSETTO:-0500
TZNAME:EST
DTSTART:20231105T060000
END:STANDARD
END:VTIMEZONE
BEGIN:VEVENT
DTSTART;TZID=America/New_York:20220430T093000
DTEND;TZID=America/New_York:20220430T160000
DTSTAMP:20260424T183407
CREATED:20220319T182805Z
LAST-MODIFIED:20220403T060523Z
UID:5026-1651311000-1651334400@missionempower.org
SUMMARY:FREE Youth Mental Health First Aid Training | April 30\, 2022
DESCRIPTION:Free Youth Mental First Aid Course\nYouth Mental Health First Aid is designed to teach parents\, family members\, caregivers\, teachers\, school staff\, peers\, neighbors\, health and human services workers\, and other caring citizens how to help an adolescent (age 12-18) who is experiencing a mental health or addictions challenge or is in crisis. Youth Mental Health First Aid is primarily designed for adults who regularly interact with young people. \nSaturday April 30\n9:30 AM- 4:00 PM\nat Mission Empower\n1611 Peach St Suite 120 \nSnacks and Lunch will be provided \nIf interested\, please contact Cassie James at (814) 825- 0788 by March 25\, 2022.
URL:https://missionempower.org/event/free-youth-mental-health-first-aid-training-april-30-2022/
LOCATION:Mission Empower\, 1611 Peach Street\, Erie\, 16501\, United States
CATEGORIES:All Events,Youth Event
END:VEVENT
END:VCALENDAR