BEGIN:VCALENDAR
VERSION:2.0
PRODID:-//Mission Empower - ECPv6.15.15//NONSGML v1.0//EN
CALSCALE:GREGORIAN
METHOD:PUBLISH
X-WR-CALNAME:Mission Empower
X-ORIGINAL-URL:https://missionempower.org
X-WR-CALDESC:Events for Mission Empower
REFRESH-INTERVAL;VALUE=DURATION:PT1H
X-Robots-Tag:noindex
X-PUBLISHED-TTL:PT1H
BEGIN:VTIMEZONE
TZID:America/New_York
BEGIN:DAYLIGHT
TZOFFSETFROM:-0500
TZOFFSETTO:-0400
TZNAME:EDT
DTSTART:20200308T070000
END:DAYLIGHT
BEGIN:STANDARD
TZOFFSETFROM:-0400
TZOFFSETTO:-0500
TZNAME:EST
DTSTART:20201101T060000
END:STANDARD
BEGIN:DAYLIGHT
TZOFFSETFROM:-0500
TZOFFSETTO:-0400
TZNAME:EDT
DTSTART:20210314T070000
END:DAYLIGHT
BEGIN:STANDARD
TZOFFSETFROM:-0400
TZOFFSETTO:-0500
TZNAME:EST
DTSTART:20211107T060000
END:STANDARD
BEGIN:DAYLIGHT
TZOFFSETFROM:-0500
TZOFFSETTO:-0400
TZNAME:EDT
DTSTART:20220313T070000
END:DAYLIGHT
BEGIN:STANDARD
TZOFFSETFROM:-0400
TZOFFSETTO:-0500
TZNAME:EST
DTSTART:20221106T060000
END:STANDARD
END:VTIMEZONE
BEGIN:VEVENT
DTSTART;TZID=America/New_York:20210505T150000
DTEND;TZID=America/New_York:20210505T160000
DTSTAMP:20260425T114134
CREATED:20210428T150555Z
LAST-MODIFIED:20210430T151618Z
UID:4575-1620226800-1620230400@missionempower.org
SUMMARY:MISSION EMPOWER - Karen Omniewski from Department of Health W4: Dental Services - May 5
DESCRIPTION:Wendi\, Mission Empowers Parent Coordinator and Richard from Nami will be discussion upcoming programming through NAMI. Wendi will dig deeper about their services.Then we will have a Q&A session for all of our live session viewers. You don’t want to miss this! \nThe National Alliance on Mental Illness of Erie County provides education and support of mental illness for individuals and families in an effort to improve the public’s awareness and understanding of mental health. \n\nRegister Now!\n\n\nSurvey:\nhttps://www.surveymonkey.com/r/96JL3ZG
URL:https://missionempower.org/event/karen-omniewski-from-department-of-health-w4-dental-services-may-5/
CATEGORIES:All Events,Webinars
END:VEVENT
BEGIN:VEVENT
DTSTART;VALUE=DATE:20210511
DTEND;VALUE=DATE:20210512
DTSTAMP:20260425T114134
CREATED:20210329T153158Z
LAST-MODIFIED:20210329T153158Z
UID:4502-1620691200-1620777599@missionempower.org
SUMMARY:2021 SPAN Parent Leadership & Advocacy Virtual Conference - May 11
DESCRIPTION:Speak Up!\nTake Action!\nCreate Change! \nImproving Systems for Families! \nTuesday May 11 and Thursday May 13\, 2021 \nThe agenda is set! Take a look at the graphic below and you will see that the 2021 SPAN Parent Leadership and Advocacy Virtual Conference will be chock full of valuable information to advance your Parent Leadership work in 2021 and beyond. \nThe SPAN Parent Leadership and Advocacy Virtual Conference is a statewide conference for and about meaningful Parent Leadership across New Jersey’s education\, health\, mental health\, family support\, human services and child welfare systems. \nTo Register: Click this link \nSponsors and Exhibitors: Click this link \nIf you have any questions\, please email Nicole Pratt at npratt@spanadvocacy.org \nFor Sponsors and Exhibitors\, please email Lanisha Makle-Ridley at lmakleridley@spanadvocacy.org
URL:https://missionempower.org/event/2021-span-parent-leadership-advocacy-virtual-conference-may-11/
CATEGORIES:All Events,Webinars
END:VEVENT
BEGIN:VEVENT
DTSTART;VALUE=DATE:20210511
DTEND;VALUE=DATE:20210625
DTSTAMP:20260425T114134
CREATED:20210428T152423Z
LAST-MODIFIED:20210428T152506Z
UID:4590-1620691200-1624579199@missionempower.org
SUMMARY:PA Care Partnership Webinar Series - May 11-June 24
DESCRIPTION:May is Mental Health Awareness Month 2021 \n\nMay 11\, 2021\, 2 to 4 p.m. ET: Jarred Vermillion\, Heroes: Engaging Youth and Families Through Pop Culture\,  register now: http://bit.ly/2NfOZwK\nMay 13\, 2021\, 2 to 4 p.m. ET: Dan Dubovsky\, Improving Outcomes by Recognizing Fetal Alcohol Spectrum Disorders (FASD)\,  register now:  http://bit.ly/39cWCNa\nMay 25\, 2021\, 2:30 to 4 p.m. ET: #DearAdultWorld\, Panelists: Calvin Ryerse\, Allison Higgins\, Diana Campo\, and Patrick Miller\, register now: http://bit.ly/3peVOwI\nMay 27\, 2021\, 2 to 4 p.m. ET: Dan Dubovsky\, Improving Outcomes by Modifying Approaches for Those with Fetal Alcohol Spectrum Disorders (FASD)\,  register now: http://bit.ly/39cWCNa\n\nJune 2021 \n\nJune 10\, 2021\, 2 to 4 p.m. ET: Daniel Hughes\, Ph.D.\,  Building Trust with Children who have been hurt in Relationships. – register now: http://bit.ly/3sUdyzO\nJune 24\, 2021\, 2:30 to 4 p.m. ET: Riana Elyse Anderson\, Ph.D.\, LCP\, Healing Racial Trauma: Racial Socialization as a Clinical Strategy for Black Youth – Register now: https://bit.ly/2NK9geK
URL:https://missionempower.org/event/pa-care-partnership-webinar-series-may-11-june-24/
CATEGORIES:All Events,Webinars
END:VEVENT
BEGIN:VEVENT
DTSTART;TZID=America/New_York:20210512T150000
DTEND;TZID=America/New_York:20210512T160000
DTSTAMP:20260425T114134
CREATED:20210428T150655Z
LAST-MODIFIED:20210430T151557Z
UID:4577-1620831600-1620835200@missionempower.org
SUMMARY:MISSION EMPOWER - NAMI Richard Walter - Current Programming W4 - May 12
DESCRIPTION:Wendi\, Mission Empowers Parent Coordinator and Richard from Nami will be discussion upcoming programming through NAMI. Wendi will dig deeper about their services.Then we will have a Q&A session for all of our live session viewers. You don’t want to miss this! \nThe National Alliance on Mental Illness of Erie County provides education and support of mental illness for individuals and families in an effort to improve the public’s awareness and understanding of mental health. \n\nRegister Now!\n\n\nSurvey:\nhttps://www.surveymonkey.com/r/DVS5LXS
URL:https://missionempower.org/event/nami-richard-walter-current-programming-w4-may-12/
CATEGORIES:All Events,Webinars
END:VEVENT
BEGIN:VEVENT
DTSTART;VALUE=DATE:20210513
DTEND;VALUE=DATE:20210514
DTSTAMP:20260425T114134
CREATED:20210329T153233Z
LAST-MODIFIED:20210329T153233Z
UID:4504-1620864000-1620950399@missionempower.org
SUMMARY:2021 SPAN Parent Leadership & Advocacy Virtual Conference - May 13
DESCRIPTION:Speak Up!\nTake Action!\nCreate Change! \nImproving Systems for Families! \nTuesday May 11 and Thursday May 13\, 2021 \nThe agenda is set! Take a look at the graphic below and you will see that the 2021 SPAN Parent Leadership and Advocacy Virtual Conference will be chock full of valuable information to advance your Parent Leadership work in 2021 and beyond. \nThe SPAN Parent Leadership and Advocacy Virtual Conference is a statewide conference for and about meaningful Parent Leadership across New Jersey’s education\, health\, mental health\, family support\, human services and child welfare systems. \nTo Register: Click this link \nSponsors and Exhibitors: Click this link \nIf you have any questions\, please email Nicole Pratt at npratt@spanadvocacy.org \nFor Sponsors and Exhibitors\, please email Lanisha Makle-Ridley at lmakleridley@spanadvocacy.org
URL:https://missionempower.org/event/2021-span-parent-leadership-advocacy-virtual-conference-may-13/
CATEGORIES:All Events,Webinars
END:VEVENT
BEGIN:VEVENT
DTSTART;TZID=America/New_York:20210518T113000
DTEND;TZID=America/New_York:20210518T160000
DTSTAMP:20260425T114134
CREATED:20210428T150912Z
LAST-MODIFIED:20210428T150912Z
UID:4579-1621337400-1621353600@missionempower.org
SUMMARY:CADRE Webinar - Exploring Implicit Bias and Microaggressions in Special Education - May 18
DESCRIPTION:On\, May 18\, 2021\, from 11:30 AM – 1:00 PM PT (2:30 PM – 4:00 PM ET)\, CADRE will host a free webinar\, Exploring Implicit Bias and Microaggressions in Special Education.\, presented by Jason Harper\, Founder of Harper Conflict Resolution\, LLC. \nREGISTERING:   \nPlease register for the free webinar. Details about how to join the webinar will be sent to you upon registration. (If you’re unable to join\, a recording will be available on the website.) \nABOUT THE WEBINAR: \nUnconscious bias is the result\, in part\, of the human brain’s need to categorize and store vast amounts of information. While everyone has unconscious biases\, it can create problems when they surface in our evaluations and decisions. In Special Education\, our implicit biases can alter our decisions regarding who we assess\, who we believe\, and how we evaluate cases. Further\, it is important to understand how microaggressions can affect our parties\, clients\, and colleagues\, leaving them with negative encounters over our seemingly innocuous statements. This presentation will deepen knowledge and skills in the area of implicit bias\, microaggressions and how to mitigate those factors when evaluating cases or working with families.   \nABOUT THE PRESENTER: \nJason Harper is the founder of Harper Conflict Resolution\, LLC. He specializes in Education and Employment mediation utilizing a collaborative approach. In addition\, Jason is an alternative dispute resolution (ADR) consultant\, conflict management coach\, adjunct professor\, and trainer. Most notably\, Jason is the ADR Consultant for the Los Angeles County Office of Education\, providing mediation and conflict resolution services to over 50 school districts and charter schools. \n\nHe is a Lecturer in Law at the University of Southern California\, Gould School of Law teaching on Cross-Cultural Dispute Resolution and an Adjunct Professor of Mediation at Pacific Coast University\, School of Law. Jason has also provided mediation and conflict resolution training for organizations such as the Western Justice Center and the International Visitors Council\, training adults from over twenty different countries. Jason has been recognized by the California State Senate and the United States Congress for his mediation trainings. \nThis webinar will be recorded. \nView past CADRE webinar recordings \nPlease note: If interested\, you may email cadre@directionservice.org and we will update you on upcoming CADRE webinars and provide you with an opportunity to give us feedback.
URL:https://missionempower.org/event/cadre-webinar-exploring-implicit-bias-and-microaggressions-in-special-education-may-18/
CATEGORIES:All Events,Webinars
END:VEVENT
BEGIN:VEVENT
DTSTART;TZID=America/New_York:20210518T193000
DTEND;TZID=America/New_York:20210518T203000
DTSTAMP:20260425T114134
CREATED:20210428T152639Z
LAST-MODIFIED:20210428T152838Z
UID:4593-1621366200-1621369800@missionempower.org
SUMMARY:PA Parent Family Alliance Webinar - Feeling Safe When the Sky is Falling: Helping Pre-School and Elementary School Children through a Global Pandemic - May 18
DESCRIPTION:This presentation looks at the impact of the pandemic on young children and uses what we know about resilience in order to help caregivers support their children’s healthy development despite the condition of the global pandemic. \nAudience: parents of young children\, teachers working with children to elementary age\, others who work with families. \nPresented by: Kristen Hennessy\, Ph.D\, is a licensed psychologist and trauma therapist specializing in the treatment of children with histories of complex trauma. She has worked in Central PA for over the past decade\, and speaks locally and internationally on topics regarding the treatment of children with histories of complex trauma. \nPresented in partnership with BHARP\, System of Care Project. This event is funded\, in part\, under grant # 1H79SM08194-02 from the Substance Abuse and Mental Health Services Administration (SAMHSA)\, US. \nRegister Now!
URL:https://missionempower.org/event/pa-parent-family-alliance-webinar-feeling-safe-when-the-sky-is-falling-helping-pre-school-and-elementary-school-children-through-a-global-pandemic-may-18/
CATEGORIES:All Events,Webinars
END:VEVENT
BEGIN:VEVENT
DTSTART;TZID=America/New_York:20210519T150000
DTEND;TZID=America/New_York:20210519T160000
DTSTAMP:20260425T114134
CREATED:20210430T151230Z
LAST-MODIFIED:20210430T151337Z
UID:4611-1621436400-1621440000@missionempower.org
SUMMARY:MISSION EMPOWER - GECAC Summer JAM W4 - May 19
DESCRIPTION:Summer is going to be here before we know it. Our teens are going to want some extra money\, right? Well here is you chance to learn about the GECAC’S summer JAM. Summer JAM is GECAC’s program to help youth connect with local employers for the perfect summer job. Watch this W4 for more information about this great community program. \n\nRegister Now!\n\n\nSurvey: \nhttps://www.surveymonkey.com/r/D9FXWGV
URL:https://missionempower.org/event/gecac-summer-jam-w4-may-19/
CATEGORIES:All Events,Webinars
END:VEVENT
BEGIN:VEVENT
DTSTART;VALUE=DATE:20210520
DTEND;VALUE=DATE:20210523
DTSTAMP:20260425T114134
CREATED:20210503T143254Z
LAST-MODIFIED:20210507T184155Z
UID:4620-1621468800-1621727999@missionempower.org
SUMMARY:PEAL Center and PA Dept of Health's Youth and Family Leadership Symposium - May 20-22
DESCRIPTION:We are partnering with the PA Department of Health to host the first Youth and Family Leadership Symposium on May 20-22\, virtually. We are inviting youth and family members from across PA who have leadership experience and want to grow their leadership voice to impact systems that serve children\, teens and young adults with disabilities and special health care needs.  \nThrough interactive sessions scattered across 3 days\, join leaders from all over the state and elevate your voice to create change. Together\, we will engage with leadership experts\, family panels\, youth and caregivers during breakouts.   \nSome of the sessions include: “Finding your Leadership Rhythm\,” “Building Networks with Purpose\,” “Being the Only ‘Dad’ in the Room\,” and “Expanding the Vision of Family Leadership.” Sessions will be held during the day and in the evening\, as well as Saturday morning. Sessions will be recorded if you are not able to attend one of them\, but live attendance is preferred.To RSVP\, go to http://LeadershipSymposium2021.eventbrite.com.   \nWe are anticipating diverse participants from various areas of Pennsylvania who bring a wealth of experience to attend.  If you desire to grow in your leadership journey with us\, please join us May 20th\, 21st\, and 22nd! \nCome and “Bring Your Voice: Share Your Vision!” with us! You don’t want to miss it! \nIf you have any questions\, contact kbrinkley@pealcenter.org. 
URL:https://missionempower.org/event/peal-center-and-pa-dept-of-healths-youth-and-family-leadership-symposium-may-20-22/
CATEGORIES:All Events,Webinars
END:VEVENT
BEGIN:VEVENT
DTSTART;TZID=America/New_York:20210520T193000
DTEND;TZID=America/New_York:20210520T203000
DTSTAMP:20260425T114134
CREATED:20210428T152942Z
LAST-MODIFIED:20210428T152942Z
UID:4596-1621539000-1621542600@missionempower.org
SUMMARY:PA Parent Family Alliance Webinar - Learning to Fly While Locked Down: Helping Middle and High Schoolers Through a Global Pandemic -
DESCRIPTION:This presentation will explore the unique developmental challenges of middle and high school students during a pandemic. We will explore how caregivers can support the healthy development of their adolescents despite the difficulties of the pandemic. \nAudience: parents of middle and high school students teachers\, others who work with families. \nPresented by: Kristen Hennessy\, Ph.D\, is a licensed psychologist and trauma therapist specializing in the treatment of children with histories of complex trauma. She has worked in Central PA for over the past decade\, and speaks locally and internationally on topics regarding the treatment of children with histories of complex trauma. \nPresented in partnership with BHARP\, System of Care Project. This event is funded\, in part\, under grant # 1H79SM08194-02 from the Substance Abuse and Mental Health Services Administration (SAMHSA)\, US. \nRegister Now!
URL:https://missionempower.org/event/pa-parent-family-alliance-webinar-learning-to-fly-while-locked-down-helping-middle-and-high-schoolers-through-a-global-pandemic/
CATEGORIES:All Events,Webinars
END:VEVENT
BEGIN:VEVENT
DTSTART;TZID=America/New_York:20210526T150000
DTEND;TZID=America/New_York:20210526T160000
DTSTAMP:20260425T114134
CREATED:20210430T151511Z
LAST-MODIFIED:20210522T173738Z
UID:4614-1622041200-1622044800@missionempower.org
SUMMARY:MISSION EMPOWER - IU5 Free Food Program W4 - May 26
DESCRIPTION:Summer is almost here. Mission Empower understands that summer brings some challenges for some families..Summer means an increase in the grocery bill. You might be struggling a bit because COVID brought its own circumstances to you. Mission Empower brings you this W4 to help you find the nutritional resources for your family throughout the summer. \nRegistration:\nhttp://events.constantcontact.com/register/event?llr=bqpx7qabb&oeidk=a07ei0t75uwc4fa4fa0 \n\nSurvey:\nhttps://www.surveymonkey.com/r/JZ3RGLT
URL:https://missionempower.org/event/iu5-free-food-program-w4-may-26/
CATEGORIES:All Events,Webinars
END:VEVENT
END:VCALENDAR