BEGIN:VCALENDAR
VERSION:2.0
PRODID:-//Mission Empower - ECPv6.15.15//NONSGML v1.0//EN
CALSCALE:GREGORIAN
METHOD:PUBLISH
X-ORIGINAL-URL:https://missionempower.org
X-WR-CALDESC:Events for Mission Empower
REFRESH-INTERVAL;VALUE=DURATION:PT1H
X-Robots-Tag:noindex
X-PUBLISHED-TTL:PT1H
BEGIN:VTIMEZONE
TZID:America/New_York
BEGIN:DAYLIGHT
TZOFFSETFROM:-0500
TZOFFSETTO:-0400
TZNAME:EDT
DTSTART:20200308T070000
END:DAYLIGHT
BEGIN:STANDARD
TZOFFSETFROM:-0400
TZOFFSETTO:-0500
TZNAME:EST
DTSTART:20201101T060000
END:STANDARD
BEGIN:DAYLIGHT
TZOFFSETFROM:-0500
TZOFFSETTO:-0400
TZNAME:EDT
DTSTART:20210314T070000
END:DAYLIGHT
BEGIN:STANDARD
TZOFFSETFROM:-0400
TZOFFSETTO:-0500
TZNAME:EST
DTSTART:20211107T060000
END:STANDARD
BEGIN:DAYLIGHT
TZOFFSETFROM:-0500
TZOFFSETTO:-0400
TZNAME:EDT
DTSTART:20220313T070000
END:DAYLIGHT
BEGIN:STANDARD
TZOFFSETFROM:-0400
TZOFFSETTO:-0500
TZNAME:EST
DTSTART:20221106T060000
END:STANDARD
END:VTIMEZONE
BEGIN:VEVENT
DTSTART;TZID=America/New_York:20210303T150000
DTEND;TZID=America/New_York:20210303T160000
DTSTAMP:20260425T154319
CREATED:20210303T223354Z
LAST-MODIFIED:20210303T223354Z
UID:4460-1614783600-1614787200@missionempower.org
SUMMARY:How does your child learn?
DESCRIPTION:Britney and Alex discuss different learning styles. Many students find learning new topics difficult\, they may see their classmates grasping new topics quicker than they can and become frustrated\, but by understanding and recognizing their specific learning style they can figure out what works best for them and become more confident and successful in school and even other aspects of their lives \n  \nRegister: http://events.constantcontact.com/register/event?llr=bqpx7qabb&oeidk=a07ehn0yq5kcf0f8d71 \nSurvey: https://www.surveymonkey.com/r/L9JTV9K
URL:https://missionempower.org/event/how-does-your-child-learn/
CATEGORIES:All Events
END:VEVENT
BEGIN:VEVENT
DTSTART;TZID=America/New_York:20210304T170000
DTEND;TZID=America/New_York:20210304T183000
DTSTAMP:20260425T154319
CREATED:20210125T164817Z
LAST-MODIFIED:20210125T164817Z
UID:4431-1614877200-1614882600@missionempower.org
SUMMARY:Youth Event | Art Night | March 4\, 2021
DESCRIPTION:Youth ENVISION event hosted by Mission Empower\n\n \nSupplies will be provided!
URL:https://missionempower.org/event/youth-event-art-night-march-4-2021/
LOCATION:Mission Empower\, 1611 Peach Street\, Erie\, 16501\, United States
CATEGORIES:All Events
ORGANIZER;CN="Jill Hrinda-Patten":MAILTO:advocate@missionempower.org
END:VEVENT
BEGIN:VEVENT
DTSTART;TZID=America/New_York:20210317T150000
DTEND;TZID=America/New_York:20210317T160000
DTSTAMP:20260425T154319
CREATED:20210303T223748Z
LAST-MODIFIED:20210303T223748Z
UID:4462-1615993200-1615996800@missionempower.org
SUMMARY:Pathway of Hope / Tessa And Claira
DESCRIPTION:The Salvation Army of Western PA\nPathway of Hope is a program that works to help families overcome barriers like unemployment\, unstable housing\, and a lack of education in order to break the cycle of crisis and vulnerability while leading families down a path toward increased stability and\, ultimately\, self-sufficiency. We appreciate support from companies like CSSI\, to help give families HOPE \nRegister: http://events.constantcontact.com/register/event?llr=bqpx7qabb&oeidk=a07ehn14rjq17e6a8e6\nSurvey: https://www.surveymonkey.com/r/L35L27F
URL:https://missionempower.org/event/pathway-of-hope-tessa-and-claira/
CATEGORIES:All Events
END:VEVENT
BEGIN:VEVENT
DTSTART;TZID=America/New_York:20210318T170000
DTEND;TZID=America/New_York:20210318T180000
DTSTAMP:20260425T154319
CREATED:20210125T165459Z
LAST-MODIFIED:20210125T165459Z
UID:4435-1616086800-1616090400@missionempower.org
SUMMARY:Youth Event | Seeking Employment / Volunteer Work Training | March 18\, 2021
DESCRIPTION:Youth ENVISION event hosted by Mission Empower\n\n \nJob readiness training\, resume building\nLINK to ZOOM Meeting:\nhttps://us02web.zoom.us/j/85672050162
URL:https://missionempower.org/event/youth-event-seeking-employment-volunteer-work-training-march-18-2021/
LOCATION:Online Event on ZOOM
CATEGORIES:All Events
ORGANIZER;CN="Jill Hrinda-Patten":MAILTO:advocate@missionempower.org
END:VEVENT
BEGIN:VEVENT
DTSTART;TZID=America/New_York:20210324T150000
DTEND;TZID=America/New_York:20210324T160000
DTSTAMP:20260425T154319
CREATED:20210303T223859Z
LAST-MODIFIED:20210303T223859Z
UID:4464-1616598000-1616601600@missionempower.org
SUMMARY:Career Street / Jennifer
DESCRIPTION:Career Street is a comprehensive career exploration and planning program linking businesses\, nonprofit organizations\, and schools to create and share experiences for students to job shadow\, intern\, tour companies\, benefit from class speakers\, and participate in career workshops and fairs. \nRegister: http://events.constantcontact.com/register/event?llr=bqpx7qabb&oeidk=a07ehn1b0eud7d052bb\nSurvey: https://www.surveymonkey.com/r/VPSYM7W
URL:https://missionempower.org/event/career-street-jennifer/
CATEGORIES:All Events
END:VEVENT
BEGIN:VEVENT
DTSTART;TZID=America/New_York:20210330T183000
DTEND;TZID=America/New_York:20210330T203000
DTSTAMP:20260425T154319
CREATED:20210311T181542Z
LAST-MODIFIED:20210311T181555Z
UID:4473-1617129000-1617136200@missionempower.org
SUMMARY:Transition Night with OVR - March 30 @ 6:30pm
DESCRIPTION:We have great news! OVR is hosting a district-wide Transition Night with OVR on March 30th at 6:30pm specifically designed for transition-aged youth and families. \nThe Pennsylvania Office of Vocational Rehabilitation (OVR) provides vocational rehabilitation services to help students and adults with disabilities prepare for\, obtain\, or maintain employment. OVR can assist students in selecting their vocational goal\, provide counseling and guidance\, diagnostic services\, assessments\, job development and placement services. \nThis event will allow youth with disabilities and their parents/guardians to connect with a few of our staff\, learn about OVR services\, and to discuss the next steps to take toward gaining their independence. The Office of Vocational Rehabilitation (OVR) can assist youth throughout their transition process by working with our Early Reach Coordinators and Vocational Rehabilitation Counselors. Even after a student graduates from high school\, OVR continues to help the student in obtaining their employment goal. \nWe would appreciate your assistance to spread the word about the upcoming Transition Night with OVR. Thanks always for your support! If you have any questions\, please contact me. Anyone interested in registering should contact Jennifer Divins at jdivins@pa.gov. Thank you.
URL:https://missionempower.org/event/transition-night-with-ovr-march-30-630pm/
CATEGORIES:All Events
END:VEVENT
END:VCALENDAR